Workbook

Sheet Instructions
B2: #VALUE!
B4: Turf Conversion Projects Prioritization Tool
B5: How to Use This Tool
B6: Input potential projects into the "Project Prioritization Tool" worksheet. Both the "Project Information" and "Project Criteria & Criteria Weights" table sections will need to be completed.
B7: The "Project Information" section asks for descriptive project information that will help guide final project selections, but this information will not be included in tool calculations.
B8: The "Project Criteria & Criteria Weights" section requires users to select dropdown answers for the seven prioritization criteria included in this tool. Refer to the 'Criteria Definitions' tab for more guidance on answering questions.
B9: Refer to the "Tool Inputs" worksheet for more information about how each criterion is weighted and scored.
B10: Once all inputs have been added for a project, the "Overall Score" will auto populate with a score out of 100. This score can be used to understand how well a potential project matches the project selection criteria.
B11: The tool will also automatically rank projects, so it is easy to see which projects achieved the highest scores.
B12: The "Project Prioritization Tool" and "Tool Inputs" tabs are locked so that only cells that require an input can be edited. To unlock the tab to make edits, use the password "Superior".

Sheet Project Prioritization Tool
A1: Project Prioritization Tool
D3: Example Project 1 | E3: Example Project 2 | F3: Example Project 3 | G3: Project 4 | H3: Project 5 | I3: Project 6 | J3: Project 7 | K3: Project 8 | L3: Project 9 | M3: Project 10
A4: Project Information | B4: Project Name | D4: Community Center Parking Lot | E4: Main St Sidewalk Strips | F4: Main St Median Phase 1
B5: Description | D5: Parking lot strips identified in water audit | E5: Coalton between Indiana and Community Park | F5: Median at top of the hill. Relandscaping the whole median, including the center.
B6: Preferred Replacement Landscaping | D6: Native plants | E6: 50% Native plants and 50% hardscape | F6: High design needs. Mix of plants and decorative rocks
B7: What is quantified water savings and other information on irrigation conversion necessary for this project? | G7: Water savings have not been quantified since system has been disabled during road construction
B8: Additional affiliated expenses with this project | D8: N/A | E8: Traffic control/lane closure required. Rennovate irrigation/convert to drip. | F8: Traffic control/lane closure required. Rennovate irrigation/convert to drip.
B9: Project Size (Square feet) | D9: 15391 | E9: 12592 | F9: 14597 | G9: 13150
B10: Project Cost | D10: 180000 | E10: 110000 | F10: 250000 | G10: 225000
B11: Project Cost/Square foot | D11: =D9/D10 -> 0.085505556 | E11: =E9/E10 -> 0.11447273 | F11: =F9/F10 -> 0.058388
A13: Project Criteria & Criteria Weights | B13: ='Tool Inputs'!C2 -> How much will the project improve irrigation system efficiency and reduce water waste, overspray, runoff, and potential damage to nearby infrastructure? | C13: ='Tool Inputs'!B2 -> 5 | D13: Very high improvement | E13: Very high improvement | F13: Very high improvement
B14: System Efficiency Score | D14: =_xlfn.XLOOKUP(D13,'Tool Inputs'!$C$3:$C$7,'Tool Inputs'!$D$3:$D$7, "Select Answer") -> 5 | E14: =_xlfn.XLOOKUP(E13,'Tool Inputs'!$C$3:$C$7,'Tool Inputs'!$D$3:$D$7, "Select Answer") -> 5 | F14: =_xlfn.XLOOKUP(F13,'Tool Inputs'!$C$3:$C$7,'Tool Inputs'!$D$3:$D$7, "Select Answer") -> 5 | G14: =_xlfn.XLOOKUP(G13,'Tool Inputs'!$C$3:$C$7,'Tool Inputs'!$D$3:$D$7, "Select Answer") -> Select Answer | H14: =_xlfn.XLOOKUP(H13,'Tool Inputs'!$C$3:$C$7,'Tool Inputs'!$D$3:$D$7, "Select Answer") -> Select Answer | I14: =_xlfn.XLOOKUP(I13,'Tool Inputs'!$C$3:$C$7,'Tool Inputs'!$D$3:$D$7, "Select Answer") -> Select Answer | J14: =_xlfn.XLOOKUP(J13,'Tool Inputs'!$C$3:$C$7,'Tool Inputs'!$D$3:$D$7, "Select Answer") -> Select Answer | K14: =_xlfn.XLOOKUP(K13,'Tool Inputs'!$C$3:$C$7,'Tool Inputs'!$D$3:$D$7, "Select Answer") -> Select Answer | ... M14: =_xlfn.XLOOKUP(M13,'Tool Inputs'!$C$3:$C$7,'Tool Inputs'!$D$3:$D$7, "Select Answer") -> Select Answer
B15: ='Tool Inputs'!C8 -> How much water will the replacement landscaping save compared to cool-season turfgrass? | C15: ='Tool Inputs'!B8 -> 10 | D15: High savings | E15: High savings | F15: High savings
B16: Water Savings Score | D16: =_xlfn.XLOOKUP(D15,'Tool Inputs'!$C$9:$C$13,'Tool Inputs'!$D$9:$D$13, "Select Answer") -> 4 | E16: =_xlfn.XLOOKUP(E15,'Tool Inputs'!$C$9:$C$13,'Tool Inputs'!$D$9:$D$13, "Select Answer") -> 4 | F16: =_xlfn.XLOOKUP(F15,'Tool Inputs'!$C$9:$C$13,'Tool Inputs'!$D$9:$D$13, "Select Answer") -> 4 | G16: =_xlfn.XLOOKUP(G15,'Tool Inputs'!$C$9:$C$13,'Tool Inputs'!$D$9:$D$13, "Select Answer") -> Select Answer | H16: =_xlfn.XLOOKUP(H15,'Tool Inputs'!$C$9:$C$13,'Tool Inputs'!$D$9:$D$13, "Select Answer") -> Select Answer | I16: =_xlfn.XLOOKUP(I15,'Tool Inputs'!$C$9:$C$13,'Tool Inputs'!$D$9:$D$13, "Select Answer") -> Select Answer | J16: =_xlfn.XLOOKUP(J15,'Tool Inputs'!$C$9:$C$13,'Tool Inputs'!$D$9:$D$13, "Select Answer") -> Select Answer | K16: =_xlfn.XLOOKUP(K15,'Tool Inputs'!$C$9:$C$13,'Tool Inputs'!$D$9:$D$13, "Select Answer") -> Select Answer | ... M16: =_xlfn.XLOOKUP(M15,'Tool Inputs'!$C$9:$C$13,'Tool Inputs'!$D$9:$D$13, "Select Answer") -> Select Answer
B17: ='Tool Inputs'!C14 -> Is the project replacing turf that is unused or only minimally used for recreation or other functional purposes? | C17: ='Tool Inputs'!B14 -> 8 | D17: Yes, never used | E17: Yes, never used | F17: Yes, sometimes used
B18: Use Score | D18: =_xlfn.XLOOKUP(D17,'Tool Inputs'!$C$15:$C$17,'Tool Inputs'!$D$15:$D$17, "Select Answer") -> 5 | E18: =_xlfn.XLOOKUP(E17,'Tool Inputs'!$C$15:$C$17,'Tool Inputs'!$D$15:$D$17, "Select Answer") -> 5 | F18: =_xlfn.XLOOKUP(F17,'Tool Inputs'!$C$15:$C$17,'Tool Inputs'!$D$15:$D$17, "Select Answer") -> 3 | G18: =_xlfn.XLOOKUP(G17,'Tool Inputs'!$C$15:$C$17,'Tool Inputs'!$D$15:$D$17, "Select Answer") -> Select Answer | H18: =_xlfn.XLOOKUP(H17,'Tool Inputs'!$C$15:$C$17,'Tool Inputs'!$D$15:$D$17, "Select Answer") -> Select Answer | I18: =_xlfn.XLOOKUP(I17,'Tool Inputs'!$C$15:$C$17,'Tool Inputs'!$D$15:$D$17, "Select Answer") -> Select Answer | J18: =_xlfn.XLOOKUP(J17,'Tool Inputs'!$C$15:$C$17,'Tool Inputs'!$D$15:$D$17, "Select Answer") -> Select Answer | K18: =_xlfn.XLOOKUP(K17,'Tool Inputs'!$C$15:$C$17,'Tool Inputs'!$D$15:$D$17, "Select Answer") -> Select Answer | ... M18: =_xlfn.XLOOKUP(M17,'Tool Inputs'!$C$15:$C$17,'Tool Inputs'!$D$15:$D$17, "Select Answer") -> Select Answer
B19: ='Tool Inputs'!C18 -> What potential does the project have to reduce wildfire risk through landscape design and vegetation management? | C19: ='Tool Inputs'!B18 -> 6 | D19: Low potential | E19: Medium potential | F19: Low potential | G19: Low potential
B20: Wildfire Mitigation Score | D20: =_xlfn.XLOOKUP(D19,'Tool Inputs'!$C$19:$C$23,'Tool Inputs'!$D$19:$D$23, "Select Answer") -> 2 | E20: =_xlfn.XLOOKUP(E19,'Tool Inputs'!$C$19:$C$23,'Tool Inputs'!$D$19:$D$23, "Select Answer") -> 3 | F20: =_xlfn.XLOOKUP(F19,'Tool Inputs'!$C$19:$C$23,'Tool Inputs'!$D$19:$D$23, "Select Answer") -> 2 | G20: =_xlfn.XLOOKUP(G19,'Tool Inputs'!$C$19:$C$23,'Tool Inputs'!$D$19:$D$23, "Select Answer") -> 2 | H20: =_xlfn.XLOOKUP(H19,'Tool Inputs'!$C$19:$C$23,'Tool Inputs'!$D$19:$D$23, "Select Answer") -> Select Answer | I20: =_xlfn.XLOOKUP(I19,'Tool Inputs'!$C$19:$C$23,'Tool Inputs'!$D$19:$D$23, "Select Answer") -> Select Answer | J20: =_xlfn.XLOOKUP(J19,'Tool Inputs'!$C$19:$C$23,'Tool Inputs'!$D$19:$D$23, "Select Answer") -> Select Answer | K20: =_xlfn.XLOOKUP(K19,'Tool Inputs'!$C$19:$C$23,'Tool Inputs'!$D$19:$D$23, "Select Answer") -> Select Answer | ... M20: =_xlfn.XLOOKUP(M19,'Tool Inputs'!$C$19:$C$23,'Tool Inputs'!$D$19:$D$23, "Select Answer") -> Select Answer
B21: ='Tool Inputs'!C24 -> Is this project along a roadway or trail that is going to be re-done shortly or has already been re-done recently? | C21: ='Tool Inputs'!B24 -> 7 | D21: No | E21: No | F21: Yes | G21: Yes
B22: Implementation Score | D22: =_xlfn.XLOOKUP(D21,'Tool Inputs'!$C$25:$C$26,'Tool Inputs'!$D$25:$D$26, "Select Answer") -> 1 | E22: =_xlfn.XLOOKUP(E21,'Tool Inputs'!$C$25:$C$26,'Tool Inputs'!$D$25:$D$26, "Select Answer") -> 1 | F22: =_xlfn.XLOOKUP(F21,'Tool Inputs'!$C$25:$C$26,'Tool Inputs'!$D$25:$D$26, "Select Answer") -> 5 | G22: =_xlfn.XLOOKUP(G21,'Tool Inputs'!$C$25:$C$26,'Tool Inputs'!$D$25:$D$26, "Select Answer") -> 5 | H22: =_xlfn.XLOOKUP(H21,'Tool Inputs'!$C$25:$C$26,'Tool Inputs'!$D$25:$D$26, "Select Answer") -> Select Answer | I22: =_xlfn.XLOOKUP(I21,'Tool Inputs'!$C$25:$C$26,'Tool Inputs'!$D$25:$D$26, "Select Answer") -> Select Answer | J22: =_xlfn.XLOOKUP(J21,'Tool Inputs'!$C$25:$C$26,'Tool Inputs'!$D$25:$D$26, "Select Answer") -> Select Answer | K22: =_xlfn.XLOOKUP(K21,'Tool Inputs'!$C$25:$C$26,'Tool Inputs'!$D$25:$D$26, "Select Answer") -> Select Answer | ... M22: =_xlfn.XLOOKUP(M21,'Tool Inputs'!$C$25:$C$26,'Tool Inputs'!$D$25:$D$26, "Select Answer") -> Select Answer
B23: ='Tool Inputs'!C27 -> What potential does the project have to provide environmental co-benefits beyond water savings? | C23: ='Tool Inputs'!B27 -> 3 | D23: Low potential | E23: No potential | F23: Medium potential | G23: Medium potential
B24: Environmental Co-benefits Score | D24: =_xlfn.XLOOKUP(D23,'Tool Inputs'!$C$28:$C$32,'Tool Inputs'!$D$28:$D$32, "Select Answer") -> 2 | E24: =_xlfn.XLOOKUP(E23,'Tool Inputs'!$C$28:$C$32,'Tool Inputs'!$D$28:$D$32, "Select Answer") -> 1 | F24: =_xlfn.XLOOKUP(F23,'Tool Inputs'!$C$28:$C$32,'Tool Inputs'!$D$28:$D$32, "Select Answer") -> 3 | G24: =_xlfn.XLOOKUP(G23,'Tool Inputs'!$C$28:$C$32,'Tool Inputs'!$D$28:$D$32, "Select Answer") -> 3 | H24: =_xlfn.XLOOKUP(H23,'Tool Inputs'!$C$28:$C$32,'Tool Inputs'!$D$28:$D$32, "Select Answer") -> Select Answer | I24: =_xlfn.XLOOKUP(I23,'Tool Inputs'!$C$28:$C$32,'Tool Inputs'!$D$28:$D$32, "Select Answer") -> Select Answer | J24: =_xlfn.XLOOKUP(J23,'Tool Inputs'!$C$28:$C$32,'Tool Inputs'!$D$28:$D$32, "Select Answer") -> Select Answer | K24: =_xlfn.XLOOKUP(K23,'Tool Inputs'!$C$28:$C$32,'Tool Inputs'!$D$28:$D$32, "Select Answer") -> Select Answer | ... M24: =_xlfn.XLOOKUP(M23,'Tool Inputs'!$C$28:$C$32,'Tool Inputs'!$D$28:$D$32, "Select Answer") -> Select Answer
B25: ='Tool Inputs'!C33 -> Is this project a Town priority? | C25: ='Tool Inputs'!B33 -> 6 | D25: Yes | E25: Yes | F25: Yes | G25: Yes
B26: Town Priority Score | D26: =_xlfn.XLOOKUP(D25,'Tool Inputs'!$C$34:$C$35,'Tool Inputs'!$D$34:$D$35, "Select Answer") -> 5 | E26: =_xlfn.XLOOKUP(E25,'Tool Inputs'!$C$34:$C$35,'Tool Inputs'!$D$34:$D$35, "Select Answer") -> 5 | F26: =_xlfn.XLOOKUP(F25,'Tool Inputs'!$C$34:$C$35,'Tool Inputs'!$D$34:$D$35, "Select Answer") -> 5 | G26: =_xlfn.XLOOKUP(G25,'Tool Inputs'!$C$34:$C$35,'Tool Inputs'!$D$34:$D$35, "Select Answer") -> 5 | H26: =_xlfn.XLOOKUP(H25,'Tool Inputs'!$C$34:$C$35,'Tool Inputs'!$D$34:$D$35, "Select Answer") -> Select Answer | I26: =_xlfn.XLOOKUP(I25,'Tool Inputs'!$C$34:$C$35,'Tool Inputs'!$D$34:$D$35, "Select Answer") -> Select Answer | J26: =_xlfn.XLOOKUP(J25,'Tool Inputs'!$C$34:$C$35,'Tool Inputs'!$D$34:$D$35, "Select Answer") -> Select Answer | K26: =_xlfn.XLOOKUP(K25,'Tool Inputs'!$C$34:$C$35,'Tool Inputs'!$D$34:$D$35, "Select Answer") -> Select Answer | ... M26: =_xlfn.XLOOKUP(M25,'Tool Inputs'!$C$34:$C$35,'Tool Inputs'!$D$34:$D$35, "Select Answer") -> Select Answer
A28: Priority | B28: Overall Score (Out of 100) | D28: {=IFERROR(SUMPRODUCT(((CHOOSE({1,2,3,4,5,6,7},D14,D16,D18,D20,D22,D24, D26)-1)/4),CHOOSE({1,2,3,4,5,6,7},'Tool Inputs'!$B$2,'Tool Inputs'!$B$8,'Tool Inputs'!$B$14,'Tool Inputs'!$B$18,'Tool Inputs'!$B$24,'Tool Inputs'!$B$27,'Tool Inputs'!$B$33))/SUM(CHOOSE({1,2,3,4,5,6,7},'Tool Inputs'!$B$2,'Tool Inputs'!$B$8,'Tool Inputs'!$B$14,'Tool Inputs'!$B$18,'Tool Inputs'!$B$24,'Tool Inputs'!$B$27,'Tool Inputs'!$B$33))*100,"No Score")} -> 63.888889 | E28: {=IFERROR(SUMPRODUCT(((CHOOSE({1,2,3,4,5,6,7},E14,E16,E18,E20,E22,E24, E26)-1)/4),CHOOSE({1,2,3,4,5,6,7},'Tool Inputs'!$B$2,'Tool Inputs'!$B$8,'Tool Inputs'!$B$14,'Tool Inputs'!$B$18,'Tool Inputs'!$B$24,'Tool Inputs'!$B$27,'Tool Inputs'!$B$33))/SUM(CHOOSE({1,2,3,4,5,6,7},'Tool Inputs'!$B$2,'Tool Inputs'!$B$8,'Tool Inputs'!$B$14,'Tool Inputs'!$B$18,'Tool Inputs'!$B$24,'Tool Inputs'!$B$27,'Tool Inputs'!$B$33))*100,"No Score")} -> 65.555556 | F28: {=IFERROR(SUMPRODUCT(((CHOOSE({1,2,3,4,5,6,7},F14,F16,F18,F20,F22,F24, F26)-1)/4),CHOOSE({1,2,3,4,5,6,7},'Tool Inputs'!$B$2,'Tool Inputs'!$B$8,'Tool Inputs'!$B$14,'Tool Inputs'!$B$18,'Tool Inputs'!$B$24,'Tool Inputs'!$B$27,'Tool Inputs'!$B$33))/SUM(CHOOSE({1,2,3,4,5,6,7},'Tool Inputs'!$B$2,'Tool Inputs'!$B$8,'Tool Inputs'!$B$14,'Tool Inputs'!$B$18,'Tool Inputs'!$B$24,'Tool Inputs'!$B$27,'Tool Inputs'!$B$33))*100,"No Score")} -> 72.222222 | G28: {=IFERROR(SUMPRODUCT(((CHOOSE({1,2,3,4,5,6,7},G14,G16,G18,G20,G22,G24, G26)-1)/4),CHOOSE({1,2,3,4,5,6,7},'Tool Inputs'!$B$2,'Tool Inputs'!$B$8,'Tool Inputs'!$B$14,'Tool Inputs'!$B$18,'Tool Inputs'!$B$24,'Tool Inputs'!$B$27,'Tool Inputs'!$B$33))/SUM(CHOOSE({1,2,3,4,5,6,7},'Tool Inputs'!$B$2,'Tool Inputs'!$B$8,'Tool Inputs'!$B$14,'Tool Inputs'!$B$18,'Tool Inputs'!$B$24,'Tool Inputs'!$B$27,'Tool Inputs'!$B$33))*100,"No Score")} -> No Score | H28: {=IFERROR(SUMPRODUCT(((CHOOSE({1,2,3,4,5,6,7},H14,H16,H18,H20,H22,H24, H26)-1)/4),CHOOSE({1,2,3,4,5,6,7},'Tool Inputs'!$B$2,'Tool Inputs'!$B$8,'Tool Inputs'!$B$14,'Tool Inputs'!$B$18,'Tool Inputs'!$B$24,'Tool Inputs'!$B$27,'Tool Inputs'!$B$33))/SUM(CHOOSE({1,2,3,4,5,6,7},'Tool Inputs'!$B$2,'Tool Inputs'!$B$8,'Tool Inputs'!$B$14,'Tool Inputs'!$B$18,'Tool Inputs'!$B$24,'Tool Inputs'!$B$27,'Tool Inputs'!$B$33))*100,"No Score")} -> No Score | I28: {=IFERROR(SUMPRODUCT(((CHOOSE({1,2,3,4,5,6,7},I14,I16,I18,I20,I22,I24, I26)-1)/4),CHOOSE({1,2,3,4,5,6,7},'Tool Inputs'!$B$2,'Tool Inputs'!$B$8,'Tool Inputs'!$B$14,'Tool Inputs'!$B$18,'Tool Inputs'!$B$24,'Tool Inputs'!$B$27,'Tool Inputs'!$B$33))/SUM(CHOOSE({1,2,3,4,5,6,7},'Tool Inputs'!$B$2,'Tool Inputs'!$B$8,'Tool Inputs'!$B$14,'Tool Inputs'!$B$18,'Tool Inputs'!$B$24,'Tool Inputs'!$B$27,'Tool Inputs'!$B$33))*100,"No Score")} -> No Score | J28: {=IFERROR(SUMPRODUCT(((CHOOSE({1,2,3,4,5,6,7},J14,J16,J18,J20,J22,J24, J26)-1)/4),CHOOSE({1,2,3,4,5,6,7},'Tool Inputs'!$B$2,'Tool Inputs'!$B$8,'Tool Inputs'!$B$14,'Tool Inputs'!$B$18,'Tool Inputs'!$B$24,'Tool Inputs'!$B$27,'Tool Inputs'!$B$33))/SUM(CHOOSE({1,2,3,4,5,6,7},'Tool Inputs'!$B$2,'Tool Inputs'!$B$8,'Tool Inputs'!$B$14,'Tool Inputs'!$B$18,'Tool Inputs'!$B$24,'Tool Inputs'!$B$27,'Tool Inputs'!$B$33))*100,"No Score")} -> No Score | K28: {=IFERROR(SUMPRODUCT(((CHOOSE({1,2,3,4,5,6,7},K14,K16,K18,K20,K22,K24, K26)-1)/4),CHOOSE({1,2,3,4,5,6,7},'Tool Inputs'!$B$2,'Tool Inputs'!$B$8,'Tool Inputs'!$B$14,'Tool Inputs'!$B$18,'Tool Inputs'!$B$24,'Tool Inputs'!$B$27,'Tool Inputs'!$B$33))/SUM(CHOOSE({1,2,3,4,5,6,7},'Tool Inputs'!$B$2,'Tool Inputs'!$B$8,'Tool Inputs'!$B$14,'Tool Inputs'!$B$18,'Tool Inputs'!$B$24,'Tool Inputs'!$B$27,'Tool Inputs'!$B$33))*100,"No Score")} -> No Score | ... M28: {=IFERROR(SUMPRODUCT(((CHOOSE({1,2,3,4,5,6,7},M14,M16,M18,M20,M22,M24, M26)-1)/4),CHOOSE({1,2,3,4,5,6,7},'Tool Inputs'!$B$2,'Tool Inputs'!$B$8,'Tool Inputs'!$B$14,'Tool Inputs'!$B$18,'Tool Inputs'!$B$24,'Tool Inputs'!$B$27,'Tool Inputs'!$B$33))/SUM(CHOOSE({1,2,3,4,5,6,7},'Tool Inputs'!$B$2,'Tool Inputs'!$B$8,'Tool Inputs'!$B$14,'Tool Inputs'!$B$18,'Tool Inputs'!$B$24,'Tool Inputs'!$B$27,'Tool Inputs'!$B$33))*100,"No Score")} -> No Score
B29: Rank | D29: =IF(D28="No Score","No Rank", _xlfn.RANK.EQ(D28,$D$28:$M$28,0)) -> 3 | E29: =IF(E28="No Score","No Rank", _xlfn.RANK.EQ(E28,$D$28:$M$28,0)) -> 2 | F29: =IF(F28="No Score","No Rank", _xlfn.RANK.EQ(F28,$D$28:$M$28,0)) -> 1 | G29: =IF(G28="No Score","No Rank", _xlfn.RANK.EQ(G28,$D$28:$M$28,0)) -> No Rank | H29: =IF(H28="No Score","No Rank", _xlfn.RANK.EQ(H28,$D$28:$M$28,0)) -> No Rank | I29: =IF(I28="No Score","No Rank", _xlfn.RANK.EQ(I28,$D$28:$M$28,0)) -> No Rank | J29: =IF(J28="No Score","No Rank", _xlfn.RANK.EQ(J28,$D$28:$M$28,0)) -> No Rank | K29: =IF(K28="No Score","No Rank", _xlfn.RANK.EQ(K28,$D$28:$M$28,0)) -> No Rank | ... M29: =IF(M28="No Score","No Rank", _xlfn.RANK.EQ(M28,$D$28:$M$28,0)) -> No Rank

Sheet Criteria Definitions
A1: Criterion | B1: Criterion Descriptions | C1: Definition & Guidance | D1: Sources (if applicable)
A2: Irrigation System Efficiency Improvements | B2: How much will the project improve irrigation system efficiency and reduce water waste, overspray, runoff, and potential damage to nearby infrastructure?
B3: Very high improvement | C3: Project replaces or fully modernizes the irrigation system (e.g., conversion to drip irrigation, smart controllers, pressure regulation, hydrozoning). Substantially reduces water waste, overspray, runoff, and risk of irrigation-related damage to infrastructure.
B4: High improvement | C4: Project includes significant irrigation upgrades (e.g., high-efficiency nozzles, smart controllers, pressure regulation, improved zoning).
B5: Moderate improvement | C5: Project includes targeted improvements addressing inefficiencies (e.g., repairing leaks, adjusting heads, replacing outdated components).
B6: Low improvement | C6: Minor irrigation adjustments or limited equipment replacement.
B7: No improvement | C7: No irrigation system changes proposed.
A8: Water Savings | B8: How much water will the replacement landscaping save compared to cool-season turfgrass? | D8: Colorado Native Grass Guide: https://coloradonativegrass.org/ Green Industry 2008 Sustainability BMPs: https://hermes.cde.state.co.us/islandora/object/co%3A13566/datastream/OBJ/view
B9: Very high savings | C9: Landscape requiring no irrigation (i.e., hardscape)
B10: High savings | C10: Native warm-season grass lawns (e.g., blue grama, buffalograss), low-water regional plant mixes, or xeriscape landscapes. Approximately 75-100% water savings compared to cool-season turf.
B11: Moderate savings | C11: Mixed landscapes including native plants and limited low-water turf or ornamental grasses. Approximately 25-50% water savings compared to cool-season turf.
B12: Low savings | C12: Hybridized or drought-tolerant turf mixes (e.g., bermudagrass). Approximately 10-25% water savings compared to cool-season turf.
B13: No savings | C13: Cool season turf (e.g., Kentucky bluegrass)
A14: Replaces Unused and Underutilized Turf Areas | B14: Is the project replacing turf that is unused or only minimally used for recreation or other functional purposes?
B15: Yes, never used | C15: Turf area has no regular recreational or functional use. Examples may include medians, road edges, narrow parkway strips, slopes, detention areas, HOA entry features, or decorative turf that is rarely or never walked on.
B16: Yes, sometimes used | C16: Turf area receives occasional or informal use but is not a primary recreation space. Examples may include areas where people occasionally walk, picnic, or allow pets to roam but that are not regularly used for sports, gatherings, or organized activities.
B17: No | C17: Turf is located in a space that is designed for, and regularly used for, civic, community, or recreational purposes (such as sports fields, designated play areas, etc.).
A18: Reduces wildfire risk | B18: What potential does the project have to reduce wildfire risk through landscape design and vegetation management? | C18: Will the replacement landscaping incorporate wildfire mitigation best practices? Consider whether the project includes the following elements or similar wildfire risk reduction measures. - Creates at least 5 feet of defensible space around structures or establishes effective defensible space zones - Removes combustible or tall growth vegetation (e.g., junipers) - Uses fire-resistant plants - Removes or avoids ladder fuels or continuous planting zones and/or installs fuel breaks | D18: Matrix Gardens Firewise Landscaping Information: https://matrixgardens.com/firewise-landscaping/?gad_source=1&gad_campaignid=23446894315&gbraid=0AAAAApdOT3gnb1AF9V0M6fY0X8A9VJRZt&gclid=Cj0KCQjwgr_NBhDFARIsAHiUWr4xE9E5IT-PGG85ul79trov2hYLLBvmW7zywpfeI16VK5Vzet8qdeAaAvJpEALw_wcB Colorado State University Firewise Plant Materials: https://extension.colostate.edu/resource/firewise-plant-materials/ ULI Marshall Fire Recovery Plan: https://knowledge.uli.org/en/reports/aspr/2023/marshall-fire-recovery 2024 Boulder County Community Wildfire Protection Plan: https://assets.bouldercounty.gov/wp-content/uploads/2024/10/boulder-county-community-wildfire-protection-plan-2024.pdf
B19: Very high potential | C19: Project incorporates four or more wildfire mitigation BMPs or significantly redesigns landscaping to reduce wildfire risk.
B20: High potential | C20: Project incorporates three wildfire mitigation BMPs.
B21: Medium potential | C21: Project incorporates two wildfire mitigation BMPs.
B22: Low potential | C22: Project incorporates one wildfire mitigation BMP.
B23: No potential | C23: Project does not incorporate wildfire mitigation practices.
A24: Implementation Alongside Other Town Projects | B24: Is this project along a roadway or trail that is going to be re-done shortly or has already been re-done recently? | C24: Is the Town planning roadway or trail work at or adjacent to the project site within the next five years? Projects that can be coordinated with planned Town work may reduce construction costs, minimize disruption, and improve implementation efficiency.
B25: Yes
B26: No
A27: Provides Environmental Co-benefits | B27: What potential does the project have to provide environmental co-benefits beyond water savings? | C27: Will the replacement landscaping provide the following environmental co-benefits or similar ecological benefits? Examples include, but are not limited to: - Increases pollinator and/or wildlife habitat - Reduces pesticide use - Improves air, soil, or water quality - Improves tree canopy or reduces urban heat island effects - Improves stormwater infiltration or reduces runoff | D27: WaterNow Turf Transformations Achieve Multiple Benefits: https://tapin.waternow.org/resources/turf-transformations-achieve-multiple-benefits/
B28: Very high potential | C28: Project provides four or more environmental co-benefits.
B29: High potential | C29: Project provides three environmental co-benefits.
B30: Medium potential | C30: Project provides two environmental co-benefits.
B31: Low potential | C31: Project provides one environmental co-benefit.
B32: No potential | C32: Project does not demonstrate environmental co-benefits beyond water savings.
A33: Town Priority | B33: Is this project a Town priority? | C33: Has the Town identified this project as a priority through planning documents, Council meetings, or other Town decisions?
B34: Yes
B35: No

Sheet Tool Inputs
A1: Criterion | B1: Priority Weight | C1: Selections | D1: Quantitative Score
A2: Irrigation System Efficiency Improvements | B2: 5 | C2: How much will the project improve irrigation system efficiency and reduce water waste, overspray, runoff, and potential damage to nearby infrastructure?
C3: Very high improvement | D3: 5
C4: High improvement | D4: 4
C5: Moderate improvement | D5: 3
C6: Low improvement | D6: 2
C7: No improvement | D7: 1
A8: Water savings | B8: 10 | C8: How much water will the replacement landscaping save compared to cool-season turfgrass?
C9: Very high savings | D9: 5
C10: High savings | D10: 4
C11: Moderate savings | D11: 3
C12: Low savings | D12: 2
C13: No savings | D13: 1
A14: Replaces unused and underutilized turf areas | B14: 8 | C14: Is the project replacing turf that is unused or only minimally used for recreation or other functional purposes?
C15: Yes, never used | D15: 5
C16: Yes, sometimes used | D16: 3
C17: No | D17: 1
A18: Reduces wildfire risk | B18: 6 | C18: What potential does the project have to reduce wildfire risk through landscape design and vegetation management?
C19: Very high potential | D19: 5
C20: High potential | D20: 4
C21: Medium potential | D21: 3
C22: Low potential | D22: 2
C23: No potential | D23: 1
A24: Implementation alongside other Town projects | B24: 7 | C24: Is this project along a roadway or trail that is going to be re-done shortly or has already been re-done recently?
C25: Yes | D25: 5
C26: No | D26: 1
A27: Provides environmental co-benefits | B27: 3 | C27: What potential does the project have to provide environmental co-benefits beyond water savings?
C28: Very high potential | D28: 5
C29: High potential | D29: 4
C30: Medium potential | D30: 3
C31: Low potential | D31: 2
C32: No potential | D32: 1
A33: Town Priority | B33: 6 | C33: Is this project a Town priority?
C34: Yes | D34: 5
C35: No | D35: 1
